BEGIN:VCALENDAR
VERSION:2.0
PRODID:-//Mark Love Music / Mid-City Sound - ECPv6.15.20//NONSGML v1.0//EN
CALSCALE:GREGORIAN
METHOD:PUBLISH
X-ORIGINAL-URL:https://marklovemusic.com
X-WR-CALDESC:Events for Mark Love Music / Mid-City Sound
REFRESH-INTERVAL;VALUE=DURATION:PT1H
X-Robots-Tag:noindex
X-PUBLISHED-TTL:PT1H
BEGIN:VTIMEZONE
TZID:America/Los_Angeles
BEGIN:DAYLIGHT
TZOFFSETFROM:-0800
TZOFFSETTO:-0700
TZNAME:PDT
DTSTART:20230312T100000
END:DAYLIGHT
BEGIN:STANDARD
TZOFFSETFROM:-0700
TZOFFSETTO:-0800
TZNAME:PST
DTSTART:20231105T090000
END:STANDARD
BEGIN:DAYLIGHT
TZOFFSETFROM:-0800
TZOFFSETTO:-0700
TZNAME:PDT
DTSTART:20240310T100000
END:DAYLIGHT
BEGIN:STANDARD
TZOFFSETFROM:-0700
TZOFFSETTO:-0800
TZNAME:PST
DTSTART:20241103T090000
END:STANDARD
BEGIN:DAYLIGHT
TZOFFSETFROM:-0800
TZOFFSETTO:-0700
TZNAME:PDT
DTSTART:20250309T100000
END:DAYLIGHT
BEGIN:STANDARD
TZOFFSETFROM:-0700
TZOFFSETTO:-0800
TZNAME:PST
DTSTART:20251102T090000
END:STANDARD
END:VTIMEZONE
BEGIN:VEVENT
DTSTART;TZID=America/Los_Angeles:20240122T050000
DTEND;TZID=America/Los_Angeles:20240122T050000
DTSTAMP:20260422T150722
CREATED:20240118T034905Z
LAST-MODIFIED:20240118T035828Z
UID:392-1705899600-1705899600@marklovemusic.com
SUMMARY:Mark Love w/Oklahoma Ollie @ The Living Room\, Los Angeles
DESCRIPTION:Come down and get some blues healing and dancing fun\, this Saturday!
URL:https://marklovemusic.com/event/mark-love-w-oklahoma-ollie-the-living-room/
LOCATION:The Living Room\, 2636 Crenshaw Blvd\, Los Angeles\, CA\, United States
CATEGORIES:Mark Love Band
ATTACH;FMTTYPE=image/jpeg:https://marklovemusic.com/wp-content/uploads/the-living-room.jpg
END:VEVENT
END:VCALENDAR