BEGIN:VCALENDAR
VERSION:2.0
PRODID:-//Mark Love Music / Mid-City Sound - ECPv6.15.20//NONSGML v1.0//EN
CALSCALE:GREGORIAN
METHOD:PUBLISH
X-ORIGINAL-URL:https://marklovemusic.com
X-WR-CALDESC:Events for Mark Love Music / Mid-City Sound
REFRESH-INTERVAL;VALUE=DURATION:PT1H
X-Robots-Tag:noindex
X-PUBLISHED-TTL:PT1H
BEGIN:VTIMEZONE
TZID:America/Los_Angeles
BEGIN:DAYLIGHT
TZOFFSETFROM:-0800
TZOFFSETTO:-0700
TZNAME:PDT
DTSTART:20240310T100000
END:DAYLIGHT
BEGIN:STANDARD
TZOFFSETFROM:-0700
TZOFFSETTO:-0800
TZNAME:PST
DTSTART:20241103T090000
END:STANDARD
BEGIN:DAYLIGHT
TZOFFSETFROM:-0800
TZOFFSETTO:-0700
TZNAME:PDT
DTSTART:20250309T100000
END:DAYLIGHT
BEGIN:STANDARD
TZOFFSETFROM:-0700
TZOFFSETTO:-0800
TZNAME:PST
DTSTART:20251102T090000
END:STANDARD
BEGIN:DAYLIGHT
TZOFFSETFROM:-0800
TZOFFSETTO:-0700
TZNAME:PDT
DTSTART:20260308T100000
END:DAYLIGHT
BEGIN:STANDARD
TZOFFSETFROM:-0700
TZOFFSETTO:-0800
TZNAME:PST
DTSTART:20261101T090000
END:STANDARD
BEGIN:DAYLIGHT
TZOFFSETFROM:-0800
TZOFFSETTO:-0700
TZNAME:PDT
DTSTART:20270314T100000
END:DAYLIGHT
BEGIN:STANDARD
TZOFFSETFROM:-0700
TZOFFSETTO:-0800
TZNAME:PST
DTSTART:20271107T090000
END:STANDARD
END:VTIMEZONE
BEGIN:VTIMEZONE
TZID:UTC
BEGIN:STANDARD
TZOFFSETFROM:+0000
TZOFFSETTO:+0000
TZNAME:UTC
DTSTART:20250101T080000
END:STANDARD
END:VTIMEZONE
BEGIN:VEVENT
DTSTART;TZID=America/Los_Angeles:20250406T230000
DTEND;TZID=America/Los_Angeles:20250407T040000
DTSTAMP:20260422T102410
CREATED:20250404T024243Z
LAST-MODIFIED:20250404T024607Z
UID:523-1743980400-1743998400@marklovemusic.com
SUMMARY:Bell's Blues Workshop
DESCRIPTION:Hosting once again\, this time for a tribute to the late Tony Ibarra\, a fixture in the LA Blues scene for decade. Come on down and celebrate his life with us. Live Music from 5pm until 9pm\, and your $15 donation gets you live music\, dancing\, open bar (!) and a plate from Cathy’s Soul Food Buffet–what a deal! Musicians bring your axe and sign in to sit in with the house band!
URL:https://marklovemusic.com/event/bells-blues-workshop-2/
LOCATION:Bell’s Blues\, 632 Colden Ave\, Los Angeles\, CA\, 90002\, United States
CATEGORIES:Mark Love Band
ATTACH;FMTTYPE=image/jpeg:https://marklovemusic.com/wp-content/uploads/5-Blues-Guys-in-LA.jpg
END:VEVENT
BEGIN:VEVENT
DTSTART;TZID=America/Los_Angeles:20250505T000000
DTEND;TZID=America/Los_Angeles:20250505T040000
DTSTAMP:20260422T102410
CREATED:20250409T203531Z
LAST-MODIFIED:20250502T214331Z
UID:527-1746403200-1746417600@marklovemusic.com
SUMMARY:Bell's Blues Workshop
DESCRIPTION:Hosting once again\, every first Sunday of the Month. Live Music from 5pm until 9pm\, and your $15 donation gets you live music\, dancing\, open bar (!) and a plate from Cathy’s Soul Food Buffet–what a deal! Musicians bring your axe and sign in to sit in with the house band. Hope to see you there!
URL:https://marklovemusic.com/event/bells-blues-workshop-3/
LOCATION:Bell’s Blues\, 632 Colden Ave\, Los Angeles\, CA\, 90002\, United States
CATEGORIES:Mark Love Band
ATTACH;FMTTYPE=image/jpeg:https://marklovemusic.com/wp-content/uploads/Screen-Shot-2025-04-28-at-1.57.02-PM.jpg
END:VEVENT
BEGIN:VEVENT
DTSTART;TZID=America/Los_Angeles:20250602T000000
DTEND;TZID=America/Los_Angeles:20250602T040000
DTSTAMP:20260422T102410
CREATED:20250518T180359Z
LAST-MODIFIED:20250518T180359Z
UID:552-1748822400-1748836800@marklovemusic.com
SUMMARY:Bell's Blues Workshop
DESCRIPTION:Hosting once again\, every first Sunday of the Month. Live Music from 5pm until 9pm\, and your $15 donation gets you live music\, dancing\, open bar (!) and a plate from Cathy’s Soul Food Buffet–what a deal! Musicians bring your axe and sign in to sit in with the house band. Hope to see you there!
URL:https://marklovemusic.com/event/bells-blues-workshop-4/
LOCATION:Bell’s Blues\, 632 Colden Ave\, Los Angeles\, CA\, 90002\, United States
CATEGORIES:Mark Love Band
ATTACH;FMTTYPE=image/jpeg:https://marklovemusic.com/wp-content/uploads/Screen-Shot-2025-04-28-at-1.57.02-PM.jpg
END:VEVENT
BEGIN:VEVENT
DTSTART;TZID=America/Los_Angeles:20250707T000000
DTEND;TZID=America/Los_Angeles:20250707T040000
DTSTAMP:20260422T102410
CREATED:20250604T225902Z
LAST-MODIFIED:20250604T225902Z
UID:555-1751846400-1751860800@marklovemusic.com
SUMMARY:Bell's Blues Workshop
DESCRIPTION:Live Music from 5pm until 9pm\, and your $15 donation gets you live music\, dancing\, open bar (!) and a plate from Cathy’s Soul Food Buffet–what a deal! Musicians sign in to sit in with the house band. Hope to see you there!
URL:https://marklovemusic.com/event/bells-blues-workshop-5/
LOCATION:Bell’s Blues\, 632 Colden Ave\, Los Angeles\, CA\, 90002\, United States
CATEGORIES:Mark Love Band
ATTACH;FMTTYPE=image/jpeg:https://marklovemusic.com/wp-content/uploads/Mark_James_Bells.jpg
END:VEVENT
BEGIN:VEVENT
DTSTART;TZID=America/Los_Angeles:20250804T000000
DTEND;TZID=America/Los_Angeles:20250804T040000
DTSTAMP:20260422T102410
CREATED:20250729T002242Z
LAST-MODIFIED:20250729T002242Z
UID:561-1754265600-1754280000@marklovemusic.com
SUMMARY:Bell's Blues Workshop
DESCRIPTION:Live Music from 5pm until 9pm\, and your $15 donation gets you live music\, dancing\, open bar (!) and a plate from Cathy’s Soul Food Buffet–what a deal! Musicians sign in to sit in with the house band. Hope to see you there!
URL:https://marklovemusic.com/event/bells-blues-workshop-6/
LOCATION:Bell’s Blues\, 632 Colden Ave\, Los Angeles\, CA\, 90002\, United States
CATEGORIES:Mark Love Band
ATTACH;FMTTYPE=image/jpeg:https://marklovemusic.com/wp-content/uploads/Mark_James_Bells.jpg
END:VEVENT
BEGIN:VEVENT
DTSTART;TZID=America/Los_Angeles:20250908T000000
DTEND;TZID=America/Los_Angeles:20250908T040000
DTSTAMP:20260422T102410
CREATED:20250809T234440Z
LAST-MODIFIED:20250809T234440Z
UID:566-1757289600-1757304000@marklovemusic.com
SUMMARY:Bell's Blues Workshop
DESCRIPTION:Live Music from 5pm until 9pm\, and your $15 donation gets you live music\, dancing\, open bar (!) and a plate from Cathy’s Soul Food Buffet–what a deal! Musicians sign in to sit in with the house band. Hope to see you there!
URL:https://marklovemusic.com/event/bells-blues-workshop-7/
LOCATION:Bell’s Blues\, 632 Colden Ave\, Los Angeles\, CA\, 90002\, United States
CATEGORIES:Mark Love Band
ATTACH;FMTTYPE=image/jpeg:https://marklovemusic.com/wp-content/uploads/Screen-Shot-2025-04-28-at-1.57.02-PM.jpg
END:VEVENT
BEGIN:VEVENT
DTSTART;TZID=America/Los_Angeles:20251006T000000
DTEND;TZID=America/Los_Angeles:20251006T040000
DTSTAMP:20260422T102410
CREATED:20250911T230844Z
LAST-MODIFIED:20250911T230844Z
UID:586-1759708800-1759723200@marklovemusic.com
SUMMARY:Bell's Blues Workshop
DESCRIPTION:Live Music from 5pm until 9pm\, and your $15 donation gets you live music\, dancing\, open bar (!) and a plate from Cathy’s Soul Food Buffet–what a deal! Musicians sign in to sit in with the house band. Hope to see you there!
URL:https://marklovemusic.com/event/bells-blues-workshop-8/
LOCATION:Bell’s Blues\, 632 Colden Ave\, Los Angeles\, CA\, 90002\, United States
CATEGORIES:Mark Love Band
ATTACH;FMTTYPE=image/jpeg:https://marklovemusic.com/wp-content/uploads/Screen-Shot-2025-04-28-at-1.57.02-PM.jpg
END:VEVENT
BEGIN:VEVENT
DTSTART;TZID=America/Los_Angeles:20251103T010000
DTEND;TZID=America/Los_Angeles:20251103T050000
DTSTAMP:20260422T102410
CREATED:20251004T174753Z
LAST-MODIFIED:20251004T174753Z
UID:589-1762131600-1762146000@marklovemusic.com
SUMMARY:Bell's Blues Workshop
DESCRIPTION:Live Music from 5pm until 9pm\, and your $15 donation gets you live music\, dancing\, open bar (!) and a plate from Cathy’s Soul Food Buffet–what a deal! Musicians sign in to sit in with the house band. Hope to see you there!
URL:https://marklovemusic.com/event/bells-blues-workshop-9/
LOCATION:Bell’s Blues\, 632 Colden Ave\, Los Angeles\, CA\, 90002\, United States
CATEGORIES:Mark Love Band
ATTACH;FMTTYPE=image/jpeg:https://marklovemusic.com/wp-content/uploads/Screen-Shot-2025-04-28-at-1.57.02-PM.jpg
END:VEVENT
BEGIN:VEVENT
DTSTART;TZID=America/Los_Angeles:20251208T010000
DTEND;TZID=America/Los_Angeles:20251208T050000
DTSTAMP:20260422T102410
CREATED:20251112T184132Z
LAST-MODIFIED:20251112T184132Z
UID:620-1765155600-1765170000@marklovemusic.com
SUMMARY:Bell's Blues Workshop
DESCRIPTION:Live Music from 5pm until 9pm\, and your $15 donation gets you live music\, dancing\, open bar (!) and a plate from Cathy’s Soul Food Buffet–what a deal! Musicians sign in to sit in with the house band. Hope to see you there!
URL:https://marklovemusic.com/event/bells-blues-workshop-10/
LOCATION:Bell’s Blues\, 632 Colden Ave\, Los Angeles\, CA\, 90002\, United States
CATEGORIES:Mark Love Band
ATTACH;FMTTYPE=image/jpeg:https://marklovemusic.com/wp-content/uploads/Mark-Bernard-Rattlesnake.jpg
END:VEVENT
BEGIN:VEVENT
DTSTART;TZID=UTC:20260202T000000
DTEND;TZID=UTC:20260202T050000
DTSTAMP:20260422T102410
CREATED:20260121T044405Z
LAST-MODIFIED:20260121T044405Z
UID:707-1769990400-1770008400@marklovemusic.com
SUMMARY:Bell's Blues Workshop--CD Release Party!
DESCRIPTION:Come celebrate the release of my new live album\, Every Day I Have the Blues! Available on all major streaming platforms… Live Music from 5pm until 9pm\, and your $15 donation gets you live music\, dancing\, open bar (!) and a plate from Cathy’s Soul Food Buffet–what a deal! Musicians sign in to sit in with the house band. Hope to see you there!
URL:https://marklovemusic.com/event/bells-blues-workshop-cd-release-party-2/
LOCATION:Bell’s Blues\, 632 Colden Ave\, Los Angeles\, CA\, 90002\, United States
CATEGORIES:Mark Love Band
ATTACH;FMTTYPE=image/jpeg:https://marklovemusic.com/wp-content/uploads/EDIHTB-cover.jpg
END:VEVENT
BEGIN:VEVENT
DTSTART;TZID=America/Los_Angeles:20260302T000000
DTEND;TZID=America/Los_Angeles:20260302T050000
DTSTAMP:20260422T102410
CREATED:20260407T174304Z
LAST-MODIFIED:20260407T174304Z
UID:728-1772409600-1772427600@marklovemusic.com
SUMMARY:Bell's Blues Workshop
DESCRIPTION:Live Music from 5pm until 9pm\, and your $15 donation ($10 for musicians) gets you live music\, dancing\, drinks and a plate from Cathy’s Soul Food Buffet–what a deal! Musicians sign in to sit in with the house band. See you there!
URL:https://marklovemusic.com/event/bells-blues-workshop-13/
LOCATION:Bell’s Blues\, 632 Colden Ave\, Los Angeles\, CA\, 90002\, United States
CATEGORIES:Mark Love Band
ATTACH;FMTTYPE=image/jpeg:https://marklovemusic.com/wp-content/uploads/Screen-Shot-2025-04-28-at-1.57.02-PM.jpg
END:VEVENT
BEGIN:VEVENT
DTSTART;TZID=America/Los_Angeles:20260405T230000
DTEND;TZID=America/Los_Angeles:20260406T040000
DTSTAMP:20260422T102410
CREATED:20260407T174000Z
LAST-MODIFIED:20260407T174000Z
UID:726-1775430000-1775448000@marklovemusic.com
SUMMARY:Bell's Blues Workshop
DESCRIPTION:Live Music from 5pm until 9pm\, and your $15 donation ($10 for musicians) gets you live music\, dancing\, drinks and a plate from Cathy’s Soul Food Buffet–what a deal! Musicians sign in to sit in with the house band. See you there!
URL:https://marklovemusic.com/event/bells-blues-workshop-12/
LOCATION:Bell’s Blues\, 632 Colden Ave\, Los Angeles\, CA\, 90002\, United States
CATEGORIES:Mark Love Band
ATTACH;FMTTYPE=image/jpeg:https://marklovemusic.com/wp-content/uploads/Screen-Shot-2025-04-28-at-1.57.02-PM.jpg
END:VEVENT
BEGIN:VEVENT
DTSTART;TZID=America/Los_Angeles:20260503T160000
DTEND;TZID=America/Los_Angeles:20260503T210000
DTSTAMP:20260422T102410
CREATED:20260407T012554Z
LAST-MODIFIED:20260417T030921Z
UID:724-1777824000-1777842000@marklovemusic.com
SUMMARY:Bell's Blues Workshop
DESCRIPTION:Party from 4pm-9pm\, and your $15 donation ($10 for musicians) gets you live music\, dancing\, drinks and a plate from Cathy’s Soul Food Buffet–what a deal! Musicians sign in to sit in with the house band. See you there!
URL:https://marklovemusic.com/event/bells-blues-workshop-11/
LOCATION:Bell’s Blues\, 632 Colden Ave\, Los Angeles\, CA\, 90002\, United States
CATEGORIES:Mark Love Band
ATTACH;FMTTYPE=image/jpeg:https://marklovemusic.com/wp-content/uploads/Screen-Shot-2025-04-28-at-1.57.02-PM.jpg
END:VEVENT
END:VCALENDAR